Workbook
Name end_year: '[1]1.Setup'!$D$12
Name Rd: '[1]1.Setup'!$C$16
Name Re: '[1]1.Setup'!$C$17

Sheet Index
B2: FINANCIAL MODEL: TABLE OF CONTENTS
B3: VIETNAM DIAGNOSTIC SERVICE PROJECT
B5: Table of Contents | E5: Status
B7: 1 | C7: Key Assumptions | E7: Reviewed
B8: 2 | C8: 5-Year Projected Financial Performance | E8: Reviewed
B9: 3 | C9: Balance Sheets | E9: Reviewed
B10: 4 | C10: Investment Size and Capital Structure | E10: Reviewed
B11: 5 | C11: 5-Year Cashflow Forecast | E11: Reviewed
B13: APPENDICES TO THE MODEL
B14: 1 | C14: 5-Year Revenue Analysis | E14: Reviewed
B15: =B14+1 -> 2 | C15: 12 Month Revenue Analysis | E15: Reviewed
B16: =B15+1 -> 3 | C16: Market Service Fee Reference | E16: Reviewed
B17: =B16+1 -> 4 | C17: 12 Month Cash Flow Forecast | E17: Reviewed
B18: =B17+1 -> 5 | C18: 5-Year Capital Expenditure Forecast | E18: Reviewed
B19: =B18+1 -> 6 | C19: 12 Month Capital Expenditure Forecast | E19: Reviewed
B20: =B19+1 -> 7 | C20: Analysis of Pre-Operational Costs | E20: Reviewed
B21: =B20+1 -> 8 | C21: 5-Year Headcout Forecast | E21: Reviewed
B22: =B21+1 -> 9 | C22: 12 Month Headcount Forecast | E22: Reviewed
B23: =B22+1 -> 10 | C23: 5-Year Operating Expenses | E23: Reviewed
B24: =B23+1 -> 11 | C24: 12 Month Operating Expenses | E24: Reviewed
B26: This Model is prepared by StoxPlus Corporation for ABC. This Model is an integral part of and should be reviewed in conjunction with the Business Plan. Please email thuan.nguyen@stoxplus.com for any queries.

Sheet 1.Key Assumptions
B3: KEY ASSUMPTIONS
B4: VIETNAM DIAGNOSTIC SERVICE PROJECT
B6: Key Dates
B8: Pre-operational period: | E8: Jan - June 2013
B9: Full Operational Period | E9: 41456
B11: Project Specifications
B12: Mode of entry | F12: Greenfield
B13: Business model | F13: Polyclinic with 3 specialties: Internal Medicine, Surgery, Obstetrics/Gyneacology
B14: Focus | F14: Advanced Laboratory Services
F15: Advanced Imaging Diagnosis Services
B16: Location | F16: District 1
B18: FINANCIAL MANAGEMENT AND OTHER ASSUMPTIONS
B19: Require cash | D19: 0.025 | F19: Annual sales
B20: Debtors Days | D20: 15 | F20: Days
B21: Creditors Days | D21: 15 | F21: Days
B22: Prepayment | D22: 0.1 | F22: of Annual Operarating Expenses
B23: Cash reserve | D23: 1.5 | F23: Months of staff costs and operating expenses
B24: Target current ratio | D24: 1.5 | F24: Current assets/ current liabilities
B25: Leverage | D25: 1 | F25: Debt / Equity
B26: Effective Tax Rate | D26: 0.1 | F26: Per Annum
B28: Target Launch | D28: 41456

Sheet 2. 5-Yr Profit & Loss
B2: 5-YEAR PROFIT AND LOSS ACCOUNTS
B3: VIETNAM DIAGNOSTIC SERVICE PROJECT
I5: Unit: US$
E6: Year 1 | F6: Year 2 | G6: Year 3 | H6: Year 4 | I6: Year 5
E7: 41791 | F7: 42156 | G7: 42522 | H7: 42887 | I7: 43252
B9: I | C9: REVENUE
C10: Consultation | E10: ='App 1_5Yr Revenue'!E9 -> 554950.06 | F10: ='App 1_5Yr Revenue'!F9 -> 840749.33 | G10: ='App 1_5Yr Revenue'!G9 -> 1188819.6 | H10: ='App 1_5Yr Revenue'!H9 -> 1560920.1 | I10: ='App 1_5Yr Revenue'!I9 -> 2049488.1
C11: Laboratory Service | E11: ='App 1_5Yr Revenue'!E10 -> 3213328.6 | F11: ='App 1_5Yr Revenue'!F10 -> 6357868.5 | G11: ='App 1_5Yr Revenue'!G10 -> 8990026.1 | H11: ='App 1_5Yr Revenue'!H10 -> 11803904 | I11: ='App 1_5Yr Revenue'!I10 -> 15498526
C12: Diagnostic Imaging | E12: ='App 1_5Yr Revenue'!E11 -> 1180122.6 | F12: ='App 1_5Yr Revenue'!F11 -> 1787885.7 | G12: ='App 1_5Yr Revenue'!G11 -> 2528070.4 | H12: ='App 1_5Yr Revenue'!H11 -> 3319356.5 | I12: ='App 1_5Yr Revenue'!I11 -> 4358315
E14: =SUM(E10:E13) -> 4948401.2 | F14: =SUM(F10:F13) -> 8986503.6 | G14: =SUM(G10:G13) -> 12706916 | H14: =SUM(H10:H13) -> 16684181 | I14: =SUM(I10:I13) -> 21906329
B15: II | C15: KEY PATIENT DATA
C16: # Patients per Annum | E16: ='App 1_5Yr Revenue'!E37 -> 83540.869 | F16: ='App 1_5Yr Revenue'!F37 -> 125311.3 | G16: ='App 1_5Yr Revenue'!G37 -> 175435.82 | H16: ='App 1_5Yr Revenue'!H37 -> 228066.57 | I16: ='App 1_5Yr Revenue'!I37 -> 296486.54
C17: # Patients per Day | E17: =E16/300 -> 278.46956 | F17: =F16/300 -> 417.70434 | G17: =G16/300 -> 584.78608 | H17: =H16/300 -> 760.2219 | I17: =I16/300 -> 988.28848
C18: # of lab tests per patient | E18: ='App 1_5Yr Revenue'!E41 -> 7.1134973 | F18: ='App 1_5Yr Revenue'!F41 -> 9 | G18: ='App 1_5Yr Revenue'!G41 -> 9 | H18: ='App 1_5Yr Revenue'!H41 -> 9 | I18: ='App 1_5Yr Revenue'!I41 -> 9
C19: # of diagnostic tests per patient | E19: ='App 1_5Yr Revenue'!E42 -> 1.0390693 | F19: ='App 1_5Yr Revenue'!F42 -> 1.5 | G19: ='App 1_5Yr Revenue'!G42 -> 1.5 | H19: ='App 1_5Yr Revenue'!H42 -> 1.5 | I19: ='App 1_5Yr Revenue'!I42 -> 1.5
C20: Consultation Rate (USD) | E20: ='App 1_5Yr Revenue'!E43 -> 6.6428571 | F20: ='App 1_5Yr Revenue'!F43 -> 6.7092857 | G20: ='App 1_5Yr Revenue'!G43 -> 6.7763786 | H20: ='App 1_5Yr Revenue'!H43 -> 6.8441424 | I20: ='App 1_5Yr Revenue'!I43 -> 6.9125838
C21: Laboratory Testing Rate (USD) | E21: ='App 1_5Yr Revenue'!E44 -> 5.5815833 | F21: ='App 1_5Yr Revenue'!F44 -> 5.6373992 | G21: ='App 1_5Yr Revenue'!G44 -> 5.6937732 | H21: ='App 1_5Yr Revenue'!H44 -> 5.7507109 | I21: ='App 1_5Yr Revenue'!I44 -> 5.808218
C22: Diagnostic Imaging Rate (USD) | E22: ='App 1_5Yr Revenue'!E45 -> 13.595138 | F22: ='App 1_5Yr Revenue'!F45 -> 13.731089 | G22: ='App 1_5Yr Revenue'!G45 -> 13.8684 | H22: ='App 1_5Yr Revenue'!H45 -> 14.007084 | I22: ='App 1_5Yr Revenue'!I45 -> 14.147155
B24: III | C24: COST OF SALES
C25: Consultation | E25: =-E10*(1-E31) -> -194232.52 | F25: =-F10*(1-F31) -> -294262.27 | G25: =-G10*(1-G31) -> -416086.85 | H25: =-H10*(1-H31) -> -546322.03 | I25: =-I10*(1-I31) -> -717320.82
C26: Laboratory Service | E26: =-E11*(1-E32) -> -1124665 | F26: =-F11*(1-F32) -> -2225254 | G26: =-G11*(1-G32) -> -3146509.1 | H26: =-H11*(1-H32) -> -4131366.5 | I26: =-I11*(1-I32) -> -5424484.2
C27: Diagnostic Imaging | E27: =-E12*(1-E33) -> -413042.91 | F27: =-F12*(1-F33) -> -625760 | G27: =-G12*(1-G33) -> -884824.65 | H27: =-H12*(1-H33) -> -1161774.8 | I27: =-I12*(1-I33) -> -1525410.3
E29: =SUM(E25:E28) -> -1731940.4 | F29: =SUM(F25:F28) -> -3145276.2 | G29: =SUM(G25:G28) -> -4447420.6 | H29: =SUM(H25:H28) -> -5839463.3 | I29: =SUM(I25:I28) -> -7667215.3
C30: Gross margin :
C31: Consultation | E31: =1-COGS!$C$10 -> 0.65 | F31: =1-COGS!$C$10 -> 0.65 | G31: =1-COGS!$C$10 -> 0.65 | H31: =1-COGS!$C$10 -> 0.65 | I31: =1-COGS!$C$10 -> 0.65
C32: Laboratory Service | E32: =1-COGS!$C$10 -> 0.65 | F32: =1-COGS!$C$10 -> 0.65 | G32: =1-COGS!$C$10 -> 0.65 | H32: =1-COGS!$C$10 -> 0.65 | I32: =1-COGS!$C$10 -> 0.65
C33: Diagnostic Imaging | E33: =1-COGS!$C$10 -> 0.65 | F33: =1-COGS!$C$10 -> 0.65 | G33: =1-COGS!$C$10 -> 0.65 | H33: =1-COGS!$C$10 -> 0.65 | I33: =1-COGS!$C$10 -> 0.65
B35: IV | C35: GROSS PROFIT | E35: =E14+E29 -> 3216460.8 | F35: =F14+F29 -> 5841227.3 | G35: =G14+G29 -> 8259495.4 | H35: =H14+H29 -> 10844718 | I35: =I14+I29 -> 14239114
B37: V | C37: OPERATING EXPENSES
C38: Salary and staff benefits | E38: =-'App 8_5Yr Headcount'!L22 -> -928372.5 | F38: =-'App 8_5Yr Headcount'!M22 -> -999769.5 | G38: =-'App 8_5Yr Headcount'!N22 -> -1547938 | H38: =-'App 8_5Yr Headcount'!O22 -> -1647777.7 | I38: =-'App 8_5Yr Headcount'!P22 -> -1750391.3
C39: ='App 10_5Yr Op Exp'!B8 -> Administration | E39: =-'App 10_5Yr Op Exp'!E8 -> -73402.006 | F39: =-'App 10_5Yr Op Exp'!F8 -> -111316.52 | G39: =-'App 10_5Yr Op Exp'!G8 -> -144038.45 | H39: =-'App 10_5Yr Op Exp'!H8 -> -167379.17 | I39: =-'App 10_5Yr Op Exp'!I8 -> -196273.59
C40: ='App 10_5Yr Op Exp'!B9 -> Office Rent, Utilities& Supplies | E40: =-'App 10_5Yr Op Exp'!E9 -> -327414.01 | F40: =-'App 10_5Yr Op Exp'!F9 -> -374961.04 | G40: =-'App 10_5Yr Op Exp'!G9 -> -705043.54 | H40: =-'App 10_5Yr Op Exp'!H9 -> -757203.18 | I40: =-'App 10_5Yr Op Exp'!I9 -> -821683.17
C41: ='App 10_5Yr Op Exp'!B10 -> Marketing & Advertising | E41: =-'App 10_5Yr Op Exp'!E10 -> -97500 | F41: =-'App 10_5Yr Op Exp'!F10 -> -179730.07 | G41: =-'App 10_5Yr Op Exp'!G10 -> -254138.32 | H41: =-'App 10_5Yr Op Exp'!H10 -> -333683.62 | I41: =-'App 10_5Yr Op Exp'!I10 -> -438126.59
C42: ='App 10_5Yr Op Exp'!B11 -> Education & Training | E42: =-'App 10_5Yr Op Exp'!E11 -> -6850 | F42: =-'App 10_5Yr Op Exp'!F11 -> -7923.6 | G42: =-'App 10_5Yr Op Exp'!G11 -> -13633.404 | H42: =-'App 10_5Yr Op Exp'!H11 -> -14492.608 | I42: =-'App 10_5Yr Op Exp'!I11 -> -15381.229
C43: ='App 10_5Yr Op Exp'!B12 -> Maintenance | E43: =-'App 10_5Yr Op Exp'!E12 -> -362185.1 | F43: =-'App 10_5Yr Op Exp'!F12 -> -362185.1 | G43: =-'App 10_5Yr Op Exp'!G12 -> -342056.73 | H43: =-'App 10_5Yr Op Exp'!H12 -> -373202.93 | I43: =-'App 10_5Yr Op Exp'!I12 -> -299006.02
C44: ='App 10_5Yr Op Exp'!B13 -> Commission & Others | E44: =-'App 10_5Yr Op Exp'!E13 -> -117468.02 | F44: =-'App 10_5Yr Op Exp'!F13 -> -990780.94 | G44: =-'App 10_5Yr Op Exp'!G13 -> -1240626 | H44: =-'App 10_5Yr Op Exp'!H13 -> -1523655.1 | I44: =-'App 10_5Yr Op Exp'!I13 -> -1837646.1
E46: =SUM(E38:E45) -> -1913191.6 | F46: =SUM(F38:F45) -> -3026666.8 | G46: =SUM(G38:G45) -> -4247474.4 | H46: =SUM(H38:H45) -> -4817394.2 | I46: =SUM(I38:I45) -> -5358508
B48: VI | C48: EBITDA | E48: =E35+E46 -> 1303269.1 | F48: =F35+F46 -> 2814560.6 | G48: =G35+G46 -> 4012021 | H48: =H35+H46 -> 6027323.3 | I48: =I35+I46 -> 8880606
C50: Less: Depreciation | E50: ='App 5_5-Yr Capex'!D14 -> -1441955.8 | F50: ='App 5_5-Yr Capex'!E14 -> -1728132.5 | G50: ='App 5_5-Yr Capex'!F14 -> -2287958.4 | H50: ='App 5_5-Yr Capex'!G14 -> -2569102.5 | I50: ='App 5_5-Yr Capex'!H14 -> -2848058.3
B52: VII | C52: EBIT | E52: =E48+E50 -> -138686.67 | F52: =F48+F50 -> 1086428 | G52: =G48+G50 -> 1724062.6 | H52: =H48+H50 -> 3458220.8 | I52: =I48+I50 -> 6032547.7
...

Sheet 3. Balance sheets
B2: BALANCE SHEETS
B3: VIETNAM DIAGNOSTIC SERVICE PROJECT
I5: Unit: US$
E6: Year 1 | F6: Year 2 | G6: Year 3 | H6: Year 4 | I6: Year 5
E7: 41791 | F7: 42156 | G7: 42522 | H7: 42887 | I7: 43252
B9: Cash on hand | E9: ='1.Key Assumptions'!$D19*'2. 5-Yr Profit & Loss'!E14 -> 123710.03 | F9: ='1.Key Assumptions'!$D19*'2. 5-Yr Profit & Loss'!F14 -> 224662.59 | G9: ='1.Key Assumptions'!$D19*'2. 5-Yr Profit & Loss'!G14 -> 317672.9 | H9: ='1.Key Assumptions'!$D19*'2. 5-Yr Profit & Loss'!H14 -> 417104.52 | I9: ='1.Key Assumptions'!$D19*'2. 5-Yr Profit & Loss'!I14 -> 547658.23
B10: Excess cash | E10: =IF('5. 5-Yr Cashflow'!E37<0,0,'5. 5-Yr Cashflow'!E37) -> 0 | F10: =IF('5. 5-Yr Cashflow'!F37<0,0,'5. 5-Yr Cashflow'!F37) -> 0 | G10: =IF('5. 5-Yr Cashflow'!G37<0,0,'5. 5-Yr Cashflow'!G37) -> 214203.85 | H10: =IF('5. 5-Yr Cashflow'!H37<0,0,'5. 5-Yr Cashflow'!H37) -> 3961457.5 | I10: =IF('5. 5-Yr Cashflow'!I37<0,0,'5. 5-Yr Cashflow'!I37) -> 11019405
B11: Trade Debtors | E11: ='2. 5-Yr Profit & Loss'!E14/365*'1.Key Assumptions'!$D$20 -> 203358.95 | F11: ='2. 5-Yr Profit & Loss'!F14/365*'1.Key Assumptions'!$D$20 -> 369308.37 | G11: ='2. 5-Yr Profit & Loss'!G14/365*'1.Key Assumptions'!$D$20 -> 522202.03 | H11: ='2. 5-Yr Profit & Loss'!H14/365*'1.Key Assumptions'!$D$20 -> 685651.26 | I11: ='2. 5-Yr Profit & Loss'!I14/365*'1.Key Assumptions'!$D$20 -> 900260.11
B12: Prepayment and others | E12: =-'2. 5-Yr Profit & Loss'!E$40*6/12 -> 163707.01 | F12: =-'2. 5-Yr Profit & Loss'!F$40*6/12 -> 187480.52 | G12: =-'2. 5-Yr Profit & Loss'!G$40*6/12 -> 352521.77 | H12: =-'2. 5-Yr Profit & Loss'!H$40*6/12 -> 378601.59 | I12: =-'2. 5-Yr Profit & Loss'!I$40*6/12 -> 410841.58
B13: Inventory | E13: ='2. 5-Yr Profit & Loss'!E14*5% -> 247420.06 | F13: ='2. 5-Yr Profit & Loss'!F14*5% -> 449325.18 | G13: ='2. 5-Yr Profit & Loss'!G14*5% -> 635345.8 | H13: ='2. 5-Yr Profit & Loss'!H14*5% -> 834209.04 | I13: ='2. 5-Yr Profit & Loss'!I14*5% -> 1095316.5
B15: CURRENT ASSETS | E15: =SUM(E9:E13) -> 738196.05 | F15: =SUM(F9:F13) -> 1230776.7 | G15: =SUM(G9:G13) -> 2041946.4 | H15: =SUM(H9:H13) -> 6277023.9 | I15: =SUM(I9:I13) -> 13973481
B17: Fixed assets | E17: ='App 5_5-Yr Capex'!D12 -> 7075302 | F17: ='App 5_5-Yr Capex'!E12 -> 8490362.4 | G17: ='App 5_5-Yr Capex'!F12 -> 11262762 | H17: ='App 5_5-Yr Capex'!G12 -> 12677822 | I17: ='App 5_5-Yr Capex'!H12 -> 14092883
B18: Accumulated Depreciation | E18: ='App 5_5-Yr Capex'!D15 -> -1441955.8 | F18: ='App 5_5-Yr Capex'!E15 -> -3170088.3 | G18: ='App 5_5-Yr Capex'!F15 -> -5458046.8 | H18: ='App 5_5-Yr Capex'!G15 -> -8027149.2 | I18: ='App 5_5-Yr Capex'!H15 -> -10875208
B20: NON CURRENT ASSETS | E20: =SUM(E17:E18) -> 5633346.2 | F20: =SUM(F17:F18) -> 5320274.1 | G20: =SUM(G17:G18) -> 5804715 | H20: =SUM(H17:H18) -> 4650673 | I20: =SUM(I17:I18) -> 3217675
B22: TOTAL ASSETS | E22: =E20+E15 -> 6371542.2 | F22: =F20+F15 -> 6551050.7 | G22: =G20+G15 -> 7846661.4 | H22: =H20+H15 -> 10927697 | I22: =I20+I15 -> 17191156
B24: Revolving | E24: =IF('5. 5-Yr Cashflow'!E37>0,0,-'5. 5-Yr Cashflow'!E37) -> 594325.59 | F24: =IF('5. 5-Yr Cashflow'!F37>0,0,-'5. 5-Yr Cashflow'!F37) -> 72695.089 | G24: =IF('5. 5-Yr Cashflow'!G37>0,0,-'5. 5-Yr Cashflow'!G37) -> 0 | H24: =IF('5. 5-Yr Cashflow'!H37>0,0,-'5. 5-Yr Cashflow'!H37) -> 0 | I24: =IF('5. 5-Yr Cashflow'!I37>0,0,-'5. 5-Yr Cashflow'!I37) -> 0
B25: Trade Creditors and Accruals | E25: =-SUM('2. 5-Yr Profit & Loss'!E$39:E$44)/365*'1.Key Assumptions'!$D$21 -> 40472.02 | F25: =-SUM('2. 5-Yr Profit & Loss'!F$39:F$44)/365*'1.Key Assumptions'!$D$21 -> 83297.148 | G25: =-SUM('2. 5-Yr Profit & Loss'!G$39:G$44)/365*'1.Key Assumptions'!$D$21 -> 110939.85 | H25: =-SUM('2. 5-Yr Profit & Loss'!H$39:H$44)/365*'1.Key Assumptions'!$D$21 -> 130258.21 | I25: =-SUM('2. 5-Yr Profit & Loss'!I$39:I$44)/365*'1.Key Assumptions'!$D$21 -> 148278.77
B26: Personal Tax Social Insurance Payable | E26: ='App 8_5Yr Headcount'!L22*'App 9_Yr1 Headcount'!$F$53/12*3 -> 58023.281 | F26: ='App 8_5Yr Headcount'!M22*'App 9_Yr1 Headcount'!$F$53/12*3 -> 62485.594 | G26: ='App 8_5Yr Headcount'!N22*'App 9_Yr1 Headcount'!$F$53/12*3 -> 96746.123 | H26: ='App 8_5Yr Headcount'!O22*'App 9_Yr1 Headcount'!$F$53/12*3 -> 102986.1 | I26: ='App 8_5Yr Headcount'!P22*'App 9_Yr1 Headcount'!$F$53/12*3 -> 109399.46
B27: CURRENT LIABILITIES | E27: =SUM(E24:E26) -> 692820.89 | F27: =SUM(F24:F26) -> 218477.83 | G27: =SUM(G24:G26) -> 207685.98 | H27: =SUM(H24:H26) -> 233244.32 | I27: =SUM(I24:I26) -> 257678.23
B29: Long term Bank Loan | E29: ='4. Initial Inv''t Size'!H23 -> 2983286.2 | F29: ='4. Initial Inv''t Size'!I23 -> 2684957.5 | G29: ='4. Initial Inv''t Size'!J23 -> 2386628.9 | H29: ='4. Initial Inv''t Size'!K23 -> 2088300.3 | I29: ='4. Initial Inv''t Size'!L23 -> 1789971.7
B31: LONG TERM LIABILITIES | E31: =SUM(E29:E30) -> 2983286.2 | F31: =SUM(F29:F30) -> 2684957.5 | G31: =SUM(G29:G30) -> 2386628.9 | H31: =SUM(H29:H30) -> 2088300.3 | I31: =SUM(I29:I30) -> 1789971.7
B33: Common Shares | E33: ='4. Initial Inv''t Size'!H13 -> 2983286.2 | F33: ='4. Initial Inv''t Size'!I13 -> 2983286.2 | G33: ='4. Initial Inv''t Size'!J13 -> 2983286.2 | H33: ='4. Initial Inv''t Size'!K13 -> 2983286.2 | I33: ='4. Initial Inv''t Size'!L13 -> 2983286.2
B34: Retained Earnings | E34: =D34+'2. 5-Yr Profit & Loss'!E60-'2. 5-Yr Profit & Loss'!E66 -> -287850.97 | F34: =E34+'2. 5-Yr Profit & Loss'!F60-'2. 5-Yr Profit & Loss'!F66 -> 664329.18 | G34: =F34+'2. 5-Yr Profit & Loss'!G60-'2. 5-Yr Profit & Loss'!G66 -> 2269060.3 | H34: =G34+'2. 5-Yr Profit & Loss'!H60-'2. 5-Yr Profit & Loss'!H66 -> 5622866.1 | I34: =H34+'2. 5-Yr Profit & Loss'!I60-'2. 5-Yr Profit & Loss'!I66 -> 12160220
B35: SHAREHOLDERS FUND | E35: =SUM(E33:E34) -> 2695435.2 | F35: =SUM(F33:F34) -> 3647615.3 | G35: =SUM(G33:G34) -> 5252346.5 | H35: =SUM(H33:H34) -> 8606152.2 | I35: =SUM(I33:I34) -> 15143506
B37: TOTAL LIABILITIES AND SHAREHOLDERS FUND | E37: =E27+E31+E35 -> 6371542.2 | F37: =F27+F31+F35 -> 6551050.7 | G37: =G27+G31+G35 -> 7846661.4 | H37: =H27+H31+H35 -> 10927697 | I37: =I27+I31+I35 -> 17191156
B39: Checked | E39: =E37-E22 -> 0 | F39: =F37-F22 -> 0 | G39: =G37-G22 -> 0 | H39: =H37-H22 -> 0 | I39: =I37-I22 -> 0

Sheet 5. 5-Yr Cashflow
B1: 5 Year Capex & Cash flow forecast
B2: VIETNAM DIAGNOSTIC SERVICE PROJECT
B5: Cashflow
E6: Year 1 | F6: Year 2 | G6: Year 3 | H6: Year 4 | I6: Year 5
E7: 41821 | F7: 42186 | G7: 42552 | H7: 42917 | I7: 43282
B8: Operating Activities
B9: Net Profit | E9: ='2. 5-Yr Profit & Loss'!E60 -> -287850.97 | F9: ='2. 5-Yr Profit & Loss'!F60 -> 952180.16 | G9: ='2. 5-Yr Profit & Loss'!G60 -> 1604731.1 | H9: ='2. 5-Yr Profit & Loss'!H60 -> 3353805.8 | I9: ='2. 5-Yr Profit & Loss'!I60 -> 6537354.1
B10: Add: Interest Charges | E10: =-'2. 5-Yr Profit & Loss'!E54 -> 149164.31 | F10: =-'2. 5-Yr Profit & Loss'!F54 -> 134247.88 | G10: =-'2. 5-Yr Profit & Loss'!G54 -> 119331.45 | H10: =-'2. 5-Yr Profit & Loss'!H54 -> 104415.02 | I10: =-'2. 5-Yr Profit & Loss'!I54 -> 89498.585
B11: Add back: Depreciation and Amortisation | E11: =-('3. Balance sheets'!E18-'3. Balance sheets'!D18) -> 1441955.8 | F11: =-('3. Balance sheets'!F18-'3. Balance sheets'!E18) -> 1728132.5 | G11: =-('3. Balance sheets'!G18-'3. Balance sheets'!F18) -> 2287958.4 | H11: =-('3. Balance sheets'!H18-'3. Balance sheets'!G18) -> 2569102.5 | I11: =-('3. Balance sheets'!I18-'3. Balance sheets'!H18) -> 2848058.3
B12: Cash before working capital adjustments | E12: =SUM(E9:E11) -> 1303269.1 | F12: =SUM(F9:F11) -> 2814560.6 | G12: =SUM(G9:G11) -> 4012021 | H12: =SUM(H9:H11) -> 6027323.3 | I12: =SUM(I9:I11) -> 9474910.9
B14: Increase in inventory | E14: =-('3. Balance sheets'!E13-'3. Balance sheets'!D13) -> -247420.06 | F14: =-('3. Balance sheets'!F13-'3. Balance sheets'!E13) -> -201905.12 | G14: =-('3. Balance sheets'!G13-'3. Balance sheets'!F13) -> -186020.62 | H14: =-('3. Balance sheets'!H13-'3. Balance sheets'!G13) -> -198863.24 | I14: =-('3. Balance sheets'!I13-'3. Balance sheets'!H13) -> -261107.43
B15: Increase in Trade Creditors | E15: ='3. Balance sheets'!E25-'3. Balance sheets'!D25 -> 40472.02 | F15: ='3. Balance sheets'!F25-'3. Balance sheets'!E25 -> 42825.128 | G15: ='3. Balance sheets'!G25-'3. Balance sheets'!F25 -> 27642.706 | H15: ='3. Balance sheets'!H25-'3. Balance sheets'!G25 -> 19318.361 | I15: ='3. Balance sheets'!I25-'3. Balance sheets'!H25 -> 18020.556
B16: Increase in Trade Debtors & Prepayments | E16: =-(SUM('3. Balance sheets'!E11:E12)-SUM('3. Balance sheets'!D11:D12)) -> -367065.96 | F16: =-(SUM('3. Balance sheets'!F11:F12)-SUM('3. Balance sheets'!E11:E12)) -> -189722.92 | G16: =-(SUM('3. Balance sheets'!G11:G12)-SUM('3. Balance sheets'!F11:F12)) -> -317934.92 | H16: =-(SUM('3. Balance sheets'!H11:H12)-SUM('3. Balance sheets'!G11:G12)) -> -189529.06 | I16: =-(SUM('3. Balance sheets'!I11:I12)-SUM('3. Balance sheets'!H11:H12)) -> -246848.84
B17: Increase in Social Insurance | E17: =('3. Balance sheets'!E26-'3. Balance sheets'!D26) -> 58023.281 | F17: =('3. Balance sheets'!F26-'3. Balance sheets'!E26) -> 4462.3125 | G17: =('3. Balance sheets'!G26-'3. Balance sheets'!F26) -> 34260.53 | H17: =('3. Balance sheets'!H26-'3. Balance sheets'!G26) -> 6239.9817 | I17: =('3. Balance sheets'!I26-'3. Balance sheets'!H26) -> 6413.3514
B18: NET CASH FROM OPERATION | E18: =SUM(E12:E17) -> 787278.42 | F18: =SUM(F12:F17) -> 2470220 | G18: =SUM(G12:G17) -> 3569968.7 | H18: =SUM(H12:H17) -> 5664489.3 | I18: =SUM(I12:I17) -> 8991388.6
B20: Investing Activities
B21: Fixed asset investment | E21: =-'App 5_5-Yr Capex'!D10 -> -7075302 | F21: =-'App 5_5-Yr Capex'!E10 -> -1415060.4 | G21: =-'App 5_5-Yr Capex'!F10 -> -2772399.4 | H21: =-'App 5_5-Yr Capex'!G10 -> -1415060.4 | I21: =-'App 5_5-Yr Capex'!H10 -> -1415060.4
B22: NET CASH USED IN INVESTING | E22: =SUM(E21:E21) -> -7075302 | F22: =SUM(F21:F21) -> -1415060.4 | G22: =SUM(G21:G21) -> -2772399.4 | H22: =SUM(H21:H21) -> -1415060.4 | I22: =SUM(I21:I21) -> -1415060.4
B24: Financing Activities
B25: Interest payment | E25: ='2. 5-Yr Profit & Loss'!E54 -> -149164.31 | F25: ='2. 5-Yr Profit & Loss'!F54 -> -134247.88 | G25: ='2. 5-Yr Profit & Loss'!G54 -> -119331.45 | H25: ='2. 5-Yr Profit & Loss'!H54 -> -104415.02 | I25: ='2. 5-Yr Profit & Loss'!I54 -> -89498.585
B26: Issue of new LT loan | E26: ='4. Initial Inv''t Size'!H11 -> 2983286.2 | F26: ='4. Initial Inv''t Size'!I11 -> 0 | G26: ='4. Initial Inv''t Size'!J11 -> 0 | H26: ='4. Initial Inv''t Size'!K11 -> 0 | I26: ='4. Initial Inv''t Size'!L11 -> 0
B27: Repayment of LT Bank loan | D27: 0 | E27: ='4. Initial Inv''t Size'!H22 -> 0 | F27: ='4. Initial Inv''t Size'!I22 -> -298328.62 | G27: ='4. Initial Inv''t Size'!J22 -> -298328.62 | H27: ='4. Initial Inv''t Size'!K22 -> -298328.62 | I27: ='4. Initial Inv''t Size'!L22 -> -298328.62
B28: Issue of Common Stock | D28: 0 | E28: ='4. Initial Inv''t Size'!H11 -> 2983286.2 | F28: ='4. Initial Inv''t Size'!I11 -> 0 | G28: ='4. Initial Inv''t Size'!J11 -> 0 | H28: ='4. Initial Inv''t Size'!K11 -> 0 | I28: ='4. Initial Inv''t Size'!L11 -> 0
B29: Payout to shareholder | E29: ='2. 5-Yr Profit & Loss'!E66 -> 0 | F29: ='2. 5-Yr Profit & Loss'!F66 -> 0 | G29: ='2. 5-Yr Profit & Loss'!G66 -> 0 | H29: ='2. 5-Yr Profit & Loss'!H66 -> 0 | I29: ='2. 5-Yr Profit & Loss'!I66 -> 0
B30: NET CASH RAISED FROM FINANCING | E30: =SUM(E25:E28) -> 5817408 | F30: =SUM(F25:F28) -> -432576.49 | G30: =SUM(G25:G28) -> -417660.06 | H30: =SUM(H25:H28) -> -402743.63 | I30: =SUM(I25:I28) -> -387827.2
B32: NET CASH | E32: =SUM(E30,E22,E18) -> -470615.56 | F32: =SUM(F30,F22,F18) -> 622583.06 | G32: =SUM(G30,G22,G18) -> 379909.25 | H32: =SUM(H30,H22,H18) -> 3846685.3 | I32: =SUM(I30,I22,I18) -> 7188501
B33: OPENING BALANCE | E33: =C34 -> 0 | F33: =E34 -> -470615.56 | G33: =F34 -> 151967.5 | H33: =G34 -> 531876.75 | I33: =H34 -> 4378562
B34: CLOSING BALANCE BEFORE SHORT TERM REVOLVING | E34: =E32+E33 -> -470615.56 | F34: =F32+F33 -> 151967.5 | G34: =G32+G33 -> 531876.75 | H34: =H32+H33 -> 4378562 | I34: =I32+I33 -> 11567063
B36: Requires cash | E36: ='1.Key Assumptions'!$D19*'2. 5-Yr Profit & Loss'!E14 -> 123710.03 | F36: ='1.Key Assumptions'!$D19*'2. 5-Yr Profit & Loss'!F14 -> 224662.59 | G36: ='1.Key Assumptions'!$D19*'2. 5-Yr Profit & Loss'!G14 -> 317672.9 | H36: ='1.Key Assumptions'!$D19*'2. 5-Yr Profit & Loss'!H14 -> 417104.52 | I36: ='1.Key Assumptions'!$D19*'2. 5-Yr Profit & Loss'!I14 -> 547658.23
B37: Cash revolving/Excess | E37: =E34-E36 -> -594325.59 | F37: =F34-F36 -> -72695.089 | G37: =G34-G36 -> 214203.85 | H37: =H34-H36 -> 3961457.5 | I37: =I34-I36 -> 11019405

Sheet 4. Initial Inv't Size
B2: INVESTMENT SIZE
B3: VIETNAM DIAGNOSTIC SERVICE PROJECT
G6: Equity
D7: US$ | H7: Year 1 | I7: Year 2 | J7: Year 3 | K7: Year 4 | L7: Year 5
H8: 41821 | I8: 42186 | J8: 42552 | K8: 42917 | L8: 43282
B10: CAPITAL EXPENDITURES | D10: ='App 6_Yr 1 Capex'!E21 -> 7243702 | E10: Year 1 Capex only | G10: Opening balance | H10: 0 | I10: =H13 -> 2983286.2 | J10: =I13 -> 2983286.2 | K10: =J13 -> 2983286.2 | L10: =K13 -> 2983286.2
B11: OPERATING EXPENSES | D11: ='App 11_Yr1 Op Exp'!D14 -> 984819.14 | E11: for the first 12 months | G11: New issuance | H11: =D19 -> 2983286.2 | I11: 0 | J11: 0 | K11: 0 | L11: 0
B12: PAYROLL | D12: ='App 8_5Yr Headcount'!L22 -> 928372.5 | E12: for the first 12 months | G12: Withdral | I12: 0 | J12: 0 | K12: 0 | L12: 0
B13: SALES (30 DAYS COLLECTION) | D13: =-SUM('App 2_12M Revenue'!F12:P12) -> -3509186.6 | G13: Closing balance | H13: =H10+H11+H12 -> 2983286.2 | I13: =I10+I11+I12 -> 2983286.2 | J13: =J10+J11+J12 -> 2983286.2 | K13: =K10+K11+K12 -> 2983286.2 | L13: =L10+L11+L12 -> 2983286.2
B14: CASH RESERVES FOR TWO MONTH EXPENSES | D14: =(D11+D12)/12*2 -> 318865.27
D15: =SUM(D10:D14) -> 5966572.3
B17: FINANCING | G17: LONG TERM LOAN
B18: Target Debt/Total Investment | D18: 0.5 | H18: Year 1 | I18: Year 2 | J18: Year 3 | K18: Year 4 | L18: Year 5
B19: Owner's equity | D19: =D15*D18 -> 2983286.2 | H19: 41821 | I19: 42186 | J19: 42552 | K19: 42917 | L19: 43282
B20: Borrowings | D20: =D15-D19 -> 2983286.2 | E20: equipment finance leased | G20: Opening balance | H20: 0 | I20: =H23 -> 2983286.2 | J20: =I23 -> 2684957.5 | K20: =J23 -> 2386628.9 | L20: =K23 -> 2088300.3
D21: =SUM(D19:D20) -> 5966572.3 | G21: New borrowings | H21: =D20 -> 2983286.2
G22: Repayments | H22: 0 | I22: =-$H$34 -> -298328.62 | J22: =-$H$34 -> -298328.62 | K22: =-$H$34 -> -298328.62 | L22: =-$H$34 -> -298328.62
G23: Closing balance | H23: =SUM(H20:H22) -> 2983286.2 | I23: =SUM(I20:I22) -> 2684957.5 | J23: =SUM(J20:J22) -> 2386628.9 | K23: =SUM(K20:K22) -> 2088300.3 | L23: =SUM(L20:L22) -> 1789971.7
G25: Average interest rate | H25: 0.05 | I25: 0.05 | J25: 0.05 | K25: 0.05 | L25: 0.05 | M25: LIBOR + 2%
G27: Interest expenses | H27: =H23*H25 -> 149164.31 | I27: =I23*I25 -> 134247.88 | J27: =J23*J25 -> 119331.45 | K27: =K23*K25 -> 104415.02 | L27: =L23*L25 -> 89498.585
G31: Initial Amount: | H31: =D20 -> 2983286.2
G32: Period in years | H32: 10
G33: Annual interest | H33: 0.05
G34: PMT | H34: =H31/H32 -> 298328.62

Sheet App 1_5Yr Revenue
B2: APPENDIX 1: KEY ASSUMPTIONS
B3: VIETNAM DIAGNOSTIC SERVICE PROJECT
B5: YEAR 1 REVENUE PROJECTION | H5: Unit: US$
E6: Year 1 | F6: Year 2 | G6: Year 3 | H6: Year 4 | I6: Year 5
E7: 41821 | F7: 42186 | G7: 42552 | H7: 42917 | I7: 43282
B9: Consultation | E9: ='App 2_12M Revenue'!R8 -> 554950.06 | F9: =F28*F43 -> 840749.33 | G9: =G28*G43 -> 1188819.6 | H9: =H28*H43 -> 1560920.1 | I9: =I28*I43 -> 2049488.1
B10: Laboratory Service | E10: ='App 2_12M Revenue'!R9 -> 3213328.6 | F10: =F29*F44 -> 6357868.5 | G10: =G29*G44 -> 8990026.1 | H10: =H29*H44 -> 11803904 | I10: =I29*I44 -> 15498526
B11: Diagnostic Imaging | E11: ='App 2_12M Revenue'!R10 -> 1180122.6 | F11: =F30*F45 -> 1787885.7 | G11: =G30*G45 -> 2528070.4 | H11: =H30*H45 -> 3319356.5 | I11: =I30*I45 -> 4358315
E13: =SUM(E9:E11) -> 4948401.2 | F13: =SUM(F9:F11) -> 8986503.6 | G13: =SUM(G9:G11) -> 12706916 | H13: =SUM(H9:H11) -> 16684181 | I13: =SUM(I9:I11) -> 21906329 | J13: In Year 5, the business will be the same size with Medic in NOW!.
B14: Revenue Growth % | F14: =F13/E13-1 -> 0.81604183 | G14: =G13/F13-1 -> 0.414 | H14: =H13/G13-1 -> 0.313 | I14: =I13/H13-1 -> 0.313
B16: ASSUMPTION OF REVENUE FROM REFERRAL | I16: Unit: US$
E17: Year 1 | F17: Year 2 | G17: Year 3 | H17: Year 4 | I17: Year 5
E18: 41821 | F18: 42186 | G18: 42552 | H18: 42917 | I18: 43282
B20: % referred patients | E20: 0.05 | F20: =E20+0.05 -> 0.1 | G20: =F20+0.05 -> 0.15 | H20: =G20+0.05 -> 0.2 | I20: =H20+0.05 -> 0.25
B21: # referred patients | E21: =E28*E20 -> 4177.0434 | F21: =F28*F20 -> 12531.13 | G21: =G28*G20 -> 26315.374 | H21: =H28*H20 -> 45613.314 | I21: =I28*I20 -> 74121.636
B22: Revenue from referred patients | E22: =E21*E46 -> 247420.06 | F22: =F21*F46 -> 898650.36 | G22: =G21*G46 -> 1906037.4 | H22: =H21*H46 -> 3336836.2 | I22: =I21*I46 -> 5476582.3
B24: PATIENT DATA INPUTS
D25: Unit | E25: Year 1 | F25: Year 2 | G25: Year 3 | H25: Year 4 | I25: Year 5
E26: 41821 | F26: 42186 | G26: 42552 | H26: 42917 | I26: 43282
B28: Consultation | D28: Patient | E28: ='App 2_12M Revenue'!R43 -> 83540.869 | F28: =E28*(1+F40) -> 125311.3 | G28: =F28*(1+G40) -> 175435.82 | H28: =G28*(1+H40) -> 228066.57 | I28: =H28*(1+I40) -> 296486.54
B29: Laboratory Service | D29: Test | E29: ='App 2_12M Revenue'!R96 -> 575701.98 | F29: =F28*F41 -> 1127801.7 | G29: =G28*G41 -> 1578922.4 | H29: =H28*H41 -> 2052599.1 | I29: =I28*I41 -> 2668378.9
B30: Diagnostic Imaging | D30: Test | E30: ='App 2_12M Revenue'!R135 -> 86804.753 | F30: =F28*$E$42 -> 130207.13 | G30: =G28*$E$42 -> 182289.98 | H30: =H28*$E$42 -> 236976.97 | I30: =I28*$E$42 -> 308070.07
B33: Patient growth
D34: Unit | E34: Year 1 | F34: Year 2 | G34: Year 3 | H34: Year 4 | I34: Year 5
E35: 41821 | F35: 42186 | G35: 42552 | H35: 42917 | I35: 43282
B37: Total patients | D37: Patient | E37: ='App 2_12M Revenue'!R32 -> 83540.869 | F37: =E37*(1+F40) -> 125311.3 | G37: =F37*(1+G40) -> 175435.82 | H37: =G37*(1+H40) -> 228066.57 | I37: =H37*(1+I40) -> 296486.54 | J37: In Year 5, the business will be the same size with Medic in 2002.
B38: Business days per year | D38: Day | E38: =52*6-12 -> 300 | F38: =52*6-12 -> 300 | G38: =52*6-12 -> 300 | H38: =52*6-12 -> 300 | I38: =52*6-12 -> 300
B39: # Patients per Annum | D39: Patient | E39: =E37/E38 -> 278.46956 | F39: =F37/F38 -> 417.70434 | G39: =G37/G38 -> 584.78608 | H39: =H37/H38 -> 760.2219 | I39: =I37/I38 -> 988.28848
B40: Patient Growth | D40: % | F40: 0.5 | G40: =F40-0.1 -> 0.4 | H40: 0.3 | I40: 0.3
B41: Average # of lab tests per patient | D41: Test | E41: ='App 2_12M Revenue'!F37 -> 7.1134973 | F41: 9 | G41: =F41 -> 9 | H41: =G41 -> 9 | I41: =H41 -> 9
B42: Average # of diagnostic tests per patient | D42: Test | E42: =E30/E28 -> 1.0390693 | F42: 1.5 | G42: =F42 -> 1.5 | H42: =G42 -> 1.5 | I42: =H42 -> 1.5
B43: Consultation Rate | D43: US$ | E43: =E9/E28 -> 6.6428571 | F43: =E43*(1+F$48) -> 6.7092857 | G43: =F43*(1+G$48) -> 6.7763786 | H43: =G43*(1+H$48) -> 6.8441424 | I43: =H43*(1+I$48) -> 6.9125838
B44: Laboratory Testing Rate | D44: US$ | E44: =E10/E29 -> 5.5815833 | F44: =E44*(1+F$48) -> 5.6373992 | G44: =F44*(1+G$48) -> 5.6937732 | H44: =G44*(1+H$48) -> 5.7507109 | I44: =H44*(1+I$48) -> 5.808218
B45: Diagnostic Imaging Rate | D45: US$ | E45: =E11/E30 -> 13.595138 | F45: =E45*(1+F$48) -> 13.731089 | G45: =F45*(1+G$48) -> 13.8684 | H45: =G45*(1+H$48) -> 14.007084 | I45: =H45*(1+I$48) -> 14.147155
B46: Average Revenue per patient | D46: US$ | E46: =E13/E28 -> 59.233299 | F46: =F13/F28 -> 71.713432 | G46: =G13/G28 -> 72.430566 | H46: =H13/H28 -> 73.154872 | I46: =I13/I28 -> 73.88642
B48: Annual Price Increase (USD term) | F48: 0.01 | G48: =F48 -> 0.01 | H48: =G48 -> 0.01 | I48: =H48 -> 0.01 | J48: Price Inflation rate!

Sheet App 2_12M Revenue
B2: APPENDIX 2: KEY ASSUMPTIONS
B3: VIETNAM DIAGNOSTIC SERVICE PROJECT
B5: YEAR 1 REVENUE PROJECTION | Q5: Unit: US$
F6: 41456 | G6: 41487 | H6: 41518 | I6: 41548 | J6: 41579 | K6: 41609 | L6: 41640 | M6: 41671 | N6: 41699 | O6: 41730 | P6: 41760 | Q6: 41791 | R6: Total Yr 1
B8: Consultation | F8: =F46 -> 3985.7143 | G8: =G46 -> 5580 | H8: =H46 -> 7812 | I8: =I46 -> 10936.8 | J8: =J46 -> 15311.52 | K8: =K46 -> 21436.128 | L8: =L46 -> 30010.579 | M8: =M46 -> 42014.811 | ... Q8: =Q46 -> 161404.1 | R8: =SUM(F8:Q8) -> 554950.06
B9: Laboratory Testing | F9: =F63 -> 23078.49 | G9: =G63 -> 32309.887 | H9: =H63 -> 45233.841 | I9: =I63 -> 63327.378 | J9: =J63 -> 88658.329 | K9: =K63 -> 124121.66 | L9: =L63 -> 173770.32 | M9: =M63 -> 243278.45 | ... Q9: =Q63 -> 934578.51 | R9: =SUM(F9:Q9) -> 3213328.6
B10: Diagnostic Imaging | F10: =F110 -> 8475.7744 | G10: =G110 -> 11866.084 | H10: =H110 -> 16612.518 | I10: =I110 -> 23257.525 | J10: =J110 -> 32560.535 | K10: =K110 -> 45584.749 | L10: =L110 -> 63818.649 | M10: =M110 -> 89346.108 | ... Q10: =Q110 -> 343232.01 | R10: =SUM(F10:Q10) -> 1180122.6
F12: =SUM(F8:F10) -> 35539.979 | G12: =SUM(G8:G10) -> 49755.971 | H12: =SUM(H8:H10) -> 69658.359 | I12: =SUM(I8:I10) -> 97521.703 | J12: =SUM(J8:J10) -> 136530.38 | K12: =SUM(K8:K10) -> 191142.54 | L12: =SUM(L8:L10) -> 267599.55 | M12: =SUM(M8:M10) -> 374639.37 | ... R12: =SUM(R8:R10) -> 4948401.2
B14: BREAKDOWN IN INDIVIDUAL AND CORPORATE CLIENTS | Q14: Unit: US$
F15: 41456 | G15: 41487 | H15: 41518 | I15: 41548 | J15: 41579 | K15: 41609 | L15: 41640 | M15: 41671 | N15: 41699 | O15: 41730 | P15: 41760 | Q15: 41791 | R15: Total Yr 1
B17: Indiviual Clients | F17: =F12*F22 -> 35539.979 | G17: =G12*G22 -> 49755.971 | H17: =H12*H22 -> 69658.359 | I17: =I12*I22 -> 97521.703 | J17: =J12*J22 -> 136530.38 | K17: =K12*K22 -> 191142.54 | L17: =L12*L22 -> 254219.57 | M17: =M12*M22 -> 337175.44 | ... Q17: =Q12*Q22 -> 1007450.2 | R17: =SUM(F17:Q17) -> 3983257.4
B18: Corporate Clients | F18: =F12*F23 -> 0 | G18: =G12*G23 -> 0 | H18: =H12*H23 -> 0 | I18: =I12*I23 -> 0 | J18: =J12*J23 -> 0 | K18: =K12*K23 -> 0 | L18: =L12*L23 -> 13379.978 | M18: =M12*M23 -> 37463.937 | ... Q18: =Q12*Q23 -> 431764.38 | R18: =SUM(F18:Q18) -> 965143.81
F20: =SUM(F17:F18) -> 35539.979 | G20: =SUM(G17:G18) -> 49755.971 | H20: =SUM(H17:H18) -> 69658.359 | I20: =SUM(I17:I18) -> 97521.703 | J20: =SUM(J17:J18) -> 136530.38 | K20: =SUM(K17:K18) -> 191142.54 | L20: =SUM(L17:L18) -> 267599.55 | M20: =SUM(M17:M18) -> 374639.37 | ... R20: =SUM(R17:R18) -> 4948401.2
B22: % individual clients | F22: 1 | G22: 1 | H22: 1 | I22: 1 | J22: 1 | K22: 1 | L22: =K22-5% -> 0.95 | M22: =L22-5% -> 0.9 | N22: =M22-5% -> 0.85 | O22: =N22-5% -> 0.8 | P22: =O22-5% -> 0.75 | Q22: =P22-5% -> 0.7
B23: % Corporate Clients | F23: =1-F22 -> 0 | G23: =1-G22 -> 0 | H23: =1-H22 -> 0 | I23: =1-I22 -> 0 | J23: =1-J22 -> 0 | K23: =1-K22 -> 0 | L23: =1-L22 -> 0.05 | M23: =1-M22 -> 0.1 | ... Q23: =1-Q22 -> 0.3
B26: Patient Acquisition Assumptions
D27: Level | F27: 41456 | G27: 41487 | H27: 41518 | I27: 41548 | J27: 41579 | K27: 41609 | L27: 41640 | M27: 41671 | N27: 41699 | O27: 41730 | P27: 41760 | Q27: 41791 | R27: Total Yr 1
B29: General consultation patients | F29: 200 | G29: =F29*1.4 -> 280 | H29: =G29*1.4 -> 392 | I29: =H29*1.4 -> 548.8 | J29: =I29*1.4 -> 768.32 | K29: =J29*1.4 -> 1075.648 | L29: =K29*1.4 -> 1505.9072 | M29: =L29*1.4 -> 2108.2701 | N29: =M29*1.4 -> 2951.5781 | ... Q29: =P29*1.4 -> 8099.1303 | R29: =SUM(F29:Q29) -> 27846.956
B30: Specialised Consultation Patients | F30: 400 | G30: =F30*1.4 -> 560 | H30: =G30*1.4 -> 784 | I30: =H30*1.4 -> 1097.6 | J30: =I30*1.4 -> 1536.64 | K30: =J30*1.4 -> 2151.296 | L30: =K30*1.4 -> 3011.8144 | M30: =L30*1.4 -> 4216.5402 | N30: =M30*1.4 -> 5903.1562 | ... Q30: =P30*1.4 -> 16198.261 | R30: =SUM(F30:Q30) -> 55693.912
F32: =SUM(F29:F31) -> 600 | G32: =SUM(G29:G31) -> 840 | H32: =SUM(H29:H31) -> 1176 | I32: =SUM(I29:I31) -> 1646.4 | J32: =SUM(J29:J31) -> 2304.96 | K32: =SUM(K29:K31) -> 3226.944 | L32: =SUM(L29:L31) -> 4517.7216 | M32: =SUM(M29:M31) -> 6324.8102 | ... Q32: =SUM(Q29:Q31) -> 24297.391 | R32: =SUM(F32:Q32) -> 83540.869
B33: Total Patient Growth | G33: =G32/F32-1 -> 0.4 | H33: =H32/G32-1 -> 0.4 | I33: =I32/H32-1 -> 0.4 | J33: =J32/I32-1 -> 0.4 | K33: =K32/J32-1 -> 0.4 | L33: =L32/K32-1 -> 0.4 | M33: =M32/L32-1 -> 0.4 | N33: =N32/M32-1 -> 0.4 | ... Q33: =Q32/P32-1 -> 0.4
B34: Of which:
B35: % patients subject to testing | E35: Medic | F35: ='Medic Data'!F18 -> 0.96875858 | G35: =F35 -> 0.96875858 | H35: =G35 -> 0.96875858 | I35: =H35 -> 0.96875858 | J35: =I35 -> 0.96875858 | K35: =J35 -> 0.96875858 | L35: =K35 -> 0.96875858 | M35: =L35 -> 0.96875858 | N35: =M35 -> 0.96875858 | ... Q35: =P35 -> 0.96875858
B36: Patients subject to lab testing | F36: =F32*F35 -> 581.25515 | G36: =G32*G35 -> 813.75721 | H36: =H32*H35 -> 1139.2601 | I36: =I32*I35 -> 1594.9641 | J36: =J32*J35 -> 2232.9498 | K36: =K32*K35 -> 3126.1297 | L36: =L32*L35 -> 4376.5816 | M36: =M32*M35 -> 6127.2142 | ... Q36: =Q32*Q35 -> 23538.306 | R36: =SUM(F36:Q36) -> 80930.933
B37: Average number of tests per patient | E37: Medic | F37: ='Medic Data'!F17 -> 7.1134973 | G37: =F37 -> 7.1134973 | H37: =G37 -> 7.1134973 | I37: =H37 -> 7.1134973 | J37: =I37 -> 7.1134973 | K37: =J37 -> 7.1134973 | L37: =K37 -> 7.1134973 | M37: =L37 -> 7.1134973 | N37: =M37 -> 7.1134973 | ... Q37: =P37 -> 7.1134973
B38: Total Tests | F38: =F36*F37 -> 4134.7569 | G38: =G36*G37 -> 5788.6597 | H38: =H36*H37 -> 8104.1236 | I38: =I36*I37 -> 11345.773 | J38: =J36*J37 -> 15884.082 | K38: =K36*K37 -> 22237.715 | L38: =L36*L37 -> 31132.801 | M38: =M36*M37 -> 43585.922 | ... Q38: =Q36*Q37 -> 167439.68 | R38: =SUM(F38:Q38) -> 575701.98
B40: Consultation Revenue Estimation | Q40: Unit: US$
F41: 41456 | G41: 41487 | H41: 41518 | I41: 41548 | J41: 41579 | K41: 41609 | L41: 41640 | M41: 41671 | N41: 41699 | O41: 41730 | P41: 41760 | Q41: 41791 | R41: Total Yr 1
B43: Number of Patients | F43: =F32 -> 600 | G43: =G32 -> 840 | H43: =H32 -> 1176 | I43: =I32 -> 1646.4 | J43: =J32 -> 2304.96 | K43: =K32 -> 3226.944 | L43: =L32 -> 4517.7216 | M43: =M32 -> 6324.8102 | ... Q43: =Q32 -> 24297.391 | R43: =SUM(F43:Q43) -> 83540.869
B44: Average Consultation Fee (USD) | F44: ='App 3_Service Fee Ref.'!N10 -> 6.6428571 | G44: =F44 -> 6.6428571 | H44: =G44 -> 6.6428571 | I44: =H44 -> 6.6428571 | J44: =I44 -> 6.6428571 | K44: =J44 -> 6.6428571 | L44: =K44 -> 6.6428571 | M44: =L44 -> 6.6428571 | N44: =M44 -> 6.6428571 | ... Q44: =P44 -> 6.6428571
B46: TOTAL LAB TEST | F46: =F43*F44 -> 3985.7143 | G46: =G43*G44 -> 5580 | H46: =H43*H44 -> 7812 | I46: =I43*I44 -> 10936.8 | J46: =J43*J44 -> 15311.52 | K46: =K43*K44 -> 21436.128 | L46: =L43*L44 -> 30010.579 | M46: =M43*M44 -> 42014.811 | ... Q46: =Q43*Q44 -> 161404.1 | R46: =SUM(F46:Q46) -> 554950.06
B48: Laboratory Testing Revenue | Q48: Unit: US$
D49: Level | F49: 41456 | G49: 41487 | H49: 41518 | I49: 41548 | J49: 41579 | K49: 41609 | L49: 41640 | M49: 41671 | N49: 41699 | O49: 41730 | P49: 41760 | Q49: 41791 | R49: Total Yr 1
B51: Biochemical | D51: Basic | F51: =F68*F84 -> 3928.0191 | G51: =G68*G84 -> 5499.2267 | H51: =H68*H84 -> 7698.9174 | I51: =I68*I84 -> 10778.484 | J51: =J68*J84 -> 15089.878 | K51: =K68*K84 -> 21125.829 | L51: =L68*L84 -> 29576.161 | M51: =M68*M84 -> 41406.626 | ... Q51: =Q68*Q84 -> 159067.69 | R51: =SUM(F51:Q51) -> 546916.88
B52: Hematological | D52: Basic | F52: =F69*F85 -> 7228.9334 | G52: =G69*G85 -> 10120.507 | H52: =H69*H85 -> 14168.709 | I52: =I69*I85 -> 19836.193 | J52: =J69*J85 -> 27770.67 | K52: =K69*K85 -> 38878.939 | L52: =L69*L85 -> 54430.514 | M52: =M69*M85 -> 76202.72 | ... Q52: =Q69*Q85 -> 292740.37 | R52: =SUM(F52:Q52) -> 1006519
B53: Immunological | D53: Intermdiate | F53: =F70*F86 -> 1786.215 | G53: =G70*G86 -> 2500.701 | H53: =H70*H86 -> 3500.9814 | I53: =I70*I86 -> 4901.374 | J53: =J70*J86 -> 6861.9235 | K53: =K70*K86 -> 9606.693 | L53: =L70*L86 -> 13449.37 | M53: =M70*M86 -> 18829.118 | ... Q53: =Q70*Q86 -> 72333.94 | R53: =SUM(F53:Q53) -> 248703.25
B54: Microbiological | D54: Intermdiate | F54: =F71*F87 -> 930.32031 | G54: =G71*G87 -> 1302.4484 | H54: =H71*H87 -> 1823.4278 | I54: =I71*I87 -> 2552.7989 | J54: =J71*J87 -> 3573.9185 | K54: =K71*K87 -> 5003.4859 | L54: =L71*L87 -> 7004.8803 | M54: =M71*M87 -> 9806.8324 | ... Q54: =Q71*Q87 -> 37673.927 | R54: =SUM(F54:Q54) -> 129532.94
B55: Parasitological | D55: Intermdiate | F55: =F72*F88 -> 801.10916 | G55: =G72*G88 -> 1121.5528 | H55: =H72*H88 -> 1570.1739 | I55: =I72*I88 -> 2198.2435 | J55: =J72*J88 -> 3077.5409 | K55: =K72*K88 -> 4308.5573 | L55: =L72*L88 -> 6031.9802 | M55: =M72*M88 -> 8444.7723 | ... Q55: =Q72*Q88 -> 32441.437 | R55: =SUM(F55:Q55) -> 111542.26
B56: Pathological | D56: Intermdiate | F56: =F73*F89 -> 1292.1115 | G56: =G73*G89 -> 1808.9562 | H56: =H73*H89 -> 2532.5386 | I56: =I73*I89 -> 3545.5541 | J56: =J73*J89 -> 4963.7757 | K56: =K73*K89 -> 6949.286 | L56: =L73*L89 -> 9729.0004 | M56: =M73*M89 -> 13620.601 | ... Q56: =Q73*Q89 -> 52324.899 | R56: =SUM(F56:Q56) -> 179906.87
B57: Molecular Biology | D57: Advanced | F57: =F74*F90 -> 2032.9222 | G57: =G74*G90 -> 2846.091 | H57: =H74*H90 -> 3984.5274 | I57: =I74*I90 -> 5578.3384 | J57: =J74*J90 -> 7809.6738 | K57: =K74*K90 -> 10933.543 | L57: =L74*L90 -> 15306.961 | M57: =M74*M90 -> 21429.745 | ... Q57: =Q74*Q90 -> 82324.508 | R57: =SUM(F57:Q57) -> 283053.47
...

Sheet App 3_Service Fee Ref.
B3: APPENDIX 2: MARKET SERVICE FEE RATES
B4: VIETNAM DIAGNOSTIC SERVICE PROJECT
B7: Laboratory Revenue
D8: Level | E8: [1] Medic | F8: [2] Medlatec | G8: [3] Diag | H8: [4] VietSing | I8: [5] Bach Mai | J8: [6] UMC | K8: [7] Cho Ray | L8: Average | M8: Premium Adj. | N8: SKT Biz
B10: Consultation fee | D10: Basic | E10: 3 | F10: 5 | G10: 10 | H10: 10 | I10: 1 | J10: 1 | K10: 1 | L10: =AVERAGE(E10:K10) -> 4.4285714 | M10: 1.5 | N10: =L10*M10 -> 6.6428571
B12: Laboratory Revenue
D13: Level | E13: =E8 -> [1] Medic | F13: =F8 -> [2] Medlatec | G13: =G8 -> [3] Diag | H13: =H8 -> [4] VietSing | I13: =I8 -> [5] Bach Mai | J13: =J8 -> [6] UMC | K13: =K8 -> [7] Cho Ray | L13: Average | M13: Adj. | N13: SKT
B15: Biochemical | D15: Basic | E15: 1.5 | F15: 5 | G15: 2.5 | H15: 7 | I15: 2 | J15: 1 | L15: =AVERAGE(E15:K15) -> 3.1666667 | M15: 1 | N15: =L15*M15 -> 3.1666667
B16: Hermatological | D16: Basic | E16: 2.5 | F16: =125500/20000 -> 6.275 | G16: =64000/20000 -> 3.2 | H16: =175000/20000 -> 8.75 | I16: 3 | J16: 2.5 | L16: =AVERAGE(E16:K16) -> 4.3708333 | M16: =M15 -> 1 | N16: =L16*M16 -> 4.3708333
B17: Immunological | D17: Intermdiate | E17: 5 | F17: 10 | G17: 6 | H17: 10 | I17: / | J17: 5 | L17: =AVERAGE(E17:K17) -> 7.2 | M17: =M16 -> 1 | N17: =L17*M17 -> 7.2
B18: Microbiological | D18: Intermdiate | E18: 3 | F18: 5 | G18: 4 | H18: 7 | I18: 5 | J18: 3 | L18: =AVERAGE(E18:K18) -> 4.5 | M18: =M17 -> 1 | N18: =L18*M18 -> 4.5
B19: Parasitological | D19: Intermdiate | E19: 4 | F19: 5 | H19: 6 | I19: / | J19: 0.5 | L19: =AVERAGE(E19:K19) -> 3.875 | M19: =M18 -> 1 | N19: =L19*M19 -> 3.875
B20: Pathological | D20: Intermdiate | E20: 5 | F20: 7.5 | G20: x | H20: x | L20: =AVERAGE(E20:K20) -> 6.25 | M20: =M19 -> 1 | N20: =L20*M20 -> 6.25
B21: Molecular Biology | D21: Advanced | E21: 50 | F21: =750000/20000 -> 37.5 | G21: =1200000/20000 -> 60 | H21: x | L21: =AVERAGE(E21:K21) -> 49.166667 | M21: =M20 -> 1 | N21: =L21*M21 -> 49.166667
B22: Genetic | D22: Advanced | E22: 60 | F22: 70 | G22: 60 | H22: x | L22: =AVERAGE(E22:K22) -> 63.333333 | M22: =M21 -> 1 | N22: =L22*M22 -> 63.333333
B23: Toxicological | D23: Advanced | G23: 7 | H23: x | L23: =AVERAGE(E23:K23) -> 7 | M23: =M22 -> 1 | N23: =L23*M23 -> 7
B24: Virus Quantification | D24: Advanced | F24: 55 | G24: x | H24: 50 | L24: =AVERAGE(E24:K24) -> 52.5 | M24: =M23 -> 1 | N24: =L24*M24 -> 52.5
B28: Diagnostic Imaging Revenue
E29: =E8 -> [1] Medic | F29: =F8 -> [2] Medlatec | G29: =G8 -> [3] Diag | H29: =H8 -> [4] VietSing | I29: =I8 -> [5] Bach Mai | J29: =J8 -> [6] UMC | K29: =K8 -> [7] Cho Ray | L29: Average | M29: Adj. | N29: SKT
B31: X-ray | D31: Basic | E31: 3 | F31: 6.5 | H31: 10 | I31: 3 | J31: 3.5 | K31: 3 | L31: =AVERAGE(E31:K31) -> 4.8333333 | M31: 1 | N31: =L31*M31 -> 4.8333333
B32: Ultrasound | D32: Basic | E32: 3 | F32: 6 | H32: 10 | I32: 3 | J32: 2 | K32: 10 | L32: =AVERAGE(E32:K32) -> 5.6666667 | M32: 1 | N32: =L32*M32 -> 5.6666667
B33: Endoscopy | D33: Intermediate | E33: 8.5 | F33: 10 | G33: x | H33: 15 | I33: 9 | J33: 8 | K33: 9 | L33: =AVERAGE(E33:K33) -> 9.9166667 | M33: 1 | N33: =L33*M33 -> 9.9166667
B34: CT scanner | D34: Intermediate | E34: 50 | F34: =900000/20000 -> 45 | G34: x | H34: x | I34: 50 | J34: 50 | K34: 50 | L34: =AVERAGE(E34:K34) -> 49 | M34: 1 | N34: =L34*M34 -> 49
B35: MRI | D35: Advanced | E35: 100 | F35: x | G35: x | H35: x | I35: 80 | J35: 100 | K35: 100 | L35: =AVERAGE(E35:K35) -> 95 | M35: 1 | N35: =L35*M35 -> 95
B36: PET scanner | D36: Advanced | E36: 1000 | F36: x | G36: x | H36: 1500 | I36: =28000/20 -> 1400 | J36: 1200 | K36: =25000/20 -> 1250 | L36: =AVERAGE(E36:K36) -> 1270 | M36: 1 | N36: =L36*M36 -> 1270

Sheet App 4_Yr1 Cashflow
B2: APPENDIX 4: YEAR 1 CASHFLOW FORECAST
B3: VIETNAM DIAGNOSTIC SERVICE PROJECT
B5: YEAR 1 CASHFLOW FORECAST
D6: 41275 | E6: 41306 | F6: 41334 | G6: 41365 | H6: 41395 | I6: 41426 | M6: 41456 | N6: 41487 | O6: 41518 | P6: 41548 | Q6: 41579 | R6: 41609 | S6: 41640 | T6: 41671 | U6: 41699 | V6: 41730 | W6: 41760 | X6: 41791 | Y6: Total Yr 1
B8: CAPITAL EXPENDITURES | Z8: check
B9: ='App 6_Yr 1 Capex'!C35 -> Fixtures & Fittings | D9: ='App 6_Yr 1 Capex'!H39 -> 0 | E9: ='App 6_Yr 1 Capex'!I39 -> 0 | F9: ='App 6_Yr 1 Capex'!J39 -> 151100 | G9: ='App 6_Yr 1 Capex'!K39 -> 0 | H9: ='App 6_Yr 1 Capex'!L39 -> 0 | I9: ='App 6_Yr 1 Capex'!M39 -> 0 | M9: ='App 6_Yr 1 Capex'!Q39 -> 0 | N9: ='App 6_Yr 1 Capex'!R39 -> 0 | O9: ='App 6_Yr 1 Capex'!S39 -> 0 | P9: ='App 6_Yr 1 Capex'!T39 -> 0 | Q9: ='App 6_Yr 1 Capex'!U39 -> 0 | R9: ='App 6_Yr 1 Capex'!V39 -> 0 | S9: ='App 6_Yr 1 Capex'!W39 -> 0 | T9: ='App 6_Yr 1 Capex'!X39 -> 0 | ... X9: ='App 6_Yr 1 Capex'!AB39 -> 0 | Y9: =SUM(D9:X9) -> 151100 | Z9: =SUM('App 6_Yr 1 Capex'!E10:E11)-'App 4_Yr1 Cashflow'!Y9 -> 0
B10: ='App 6_Yr 1 Capex'!C41 -> Emergency Room | D10: ='App 6_Yr 1 Capex'!H52 -> 0 | E10: ='App 6_Yr 1 Capex'!I52 -> 0 | F10: ='App 6_Yr 1 Capex'!J52 -> 16050 | G10: ='App 6_Yr 1 Capex'!K52 -> 0 | H10: ='App 6_Yr 1 Capex'!L52 -> 0 | I10: ='App 6_Yr 1 Capex'!M52 -> 0 | M10: ='App 6_Yr 1 Capex'!Q52 -> 0 | N10: ='App 6_Yr 1 Capex'!R52 -> 0 | O10: ='App 6_Yr 1 Capex'!S52 -> 0 | P10: ='App 6_Yr 1 Capex'!T52 -> 0 | Q10: ='App 6_Yr 1 Capex'!U52 -> 0 | R10: ='App 6_Yr 1 Capex'!V52 -> 0 | S10: ='App 6_Yr 1 Capex'!W52 -> 0 | T10: ='App 6_Yr 1 Capex'!X52 -> 0 | ... X10: ='App 6_Yr 1 Capex'!AB52 -> 0 | Y10: =SUM(D10:X10) -> 16050 | Z10: ='App 6_Yr 1 Capex'!E12-'App 4_Yr1 Cashflow'!Y10 -> 0
B11: ='App 6_Yr 1 Capex'!C54 -> Patient Room | D11: ='App 6_Yr 1 Capex'!H58 -> 0 | E11: ='App 6_Yr 1 Capex'!I58 -> 0 | F11: ='App 6_Yr 1 Capex'!J58 -> 1250 | G11: ='App 6_Yr 1 Capex'!K58 -> 0 | H11: ='App 6_Yr 1 Capex'!L58 -> 0 | I11: ='App 6_Yr 1 Capex'!M58 -> 0 | M11: ='App 6_Yr 1 Capex'!Q58 -> 0 | N11: ='App 6_Yr 1 Capex'!R58 -> 0 | O11: ='App 6_Yr 1 Capex'!S58 -> 0 | P11: ='App 6_Yr 1 Capex'!T58 -> 0 | Q11: ='App 6_Yr 1 Capex'!U58 -> 0 | R11: ='App 6_Yr 1 Capex'!V58 -> 0 | S11: ='App 6_Yr 1 Capex'!W58 -> 0 | T11: ='App 6_Yr 1 Capex'!X58 -> 0 | ... X11: ='App 6_Yr 1 Capex'!AB58 -> 0 | Y11: =SUM(D11:X11) -> 1250 | Z11: ='App 6_Yr 1 Capex'!E13-'App 4_Yr1 Cashflow'!Y11 -> 0
B12: ='App 6_Yr 1 Capex'!C60 -> Check-up | D12: ='App 6_Yr 1 Capex'!H96 -> 0 | E12: ='App 6_Yr 1 Capex'!I96 -> 0 | F12: ='App 6_Yr 1 Capex'!J96 -> 47730 | G12: ='App 6_Yr 1 Capex'!K96 -> 12000 | H12: ='App 6_Yr 1 Capex'!L96 -> 0 | I12: ='App 6_Yr 1 Capex'!M96 -> 0 | M12: ='App 6_Yr 1 Capex'!Q96 -> 0 | N12: ='App 6_Yr 1 Capex'!R96 -> 0 | O12: ='App 6_Yr 1 Capex'!S96 -> 0 | P12: ='App 6_Yr 1 Capex'!T96 -> 0 | Q12: ='App 6_Yr 1 Capex'!U96 -> 0 | R12: ='App 6_Yr 1 Capex'!V96 -> 0 | S12: ='App 6_Yr 1 Capex'!W96 -> 0 | T12: ='App 6_Yr 1 Capex'!X96 -> 0 | ... X12: ='App 6_Yr 1 Capex'!AB96 -> 0 | Y12: =SUM(D12:X12) -> 59730 | Z12: ='App 6_Yr 1 Capex'!E14-'App 4_Yr1 Cashflow'!Y12 -> 0
B13: ='App 6_Yr 1 Capex'!C98 -> Laboratory Services | D13: ='App 6_Yr 1 Capex'!H146 -> 0 | E13: ='App 6_Yr 1 Capex'!I146 -> 0 | F13: ='App 6_Yr 1 Capex'!J146 -> 1568819 | G13: ='App 6_Yr 1 Capex'!K146 -> 0 | H13: ='App 6_Yr 1 Capex'!L146 -> 0 | I13: ='App 6_Yr 1 Capex'!M146 -> 0 | M13: ='App 6_Yr 1 Capex'!Q146 -> 312695 | N13: ='App 6_Yr 1 Capex'!R146 -> 73799 | O13: ='App 6_Yr 1 Capex'!S146 -> 621250 | P13: ='App 6_Yr 1 Capex'!T146 -> 0 | Q13: ='App 6_Yr 1 Capex'!U146 -> 3500 | R13: ='App 6_Yr 1 Capex'!V146 -> 767050 | S13: ='App 6_Yr 1 Capex'!W146 -> 0 | T13: ='App 6_Yr 1 Capex'!X146 -> 0 | ... X13: ='App 6_Yr 1 Capex'!AB146 -> 666250 | Y13: =SUM(D13:X13) -> 4013363 | Z13: ='App 6_Yr 1 Capex'!E15-'App 4_Yr1 Cashflow'!Y13 -> 0
B14: ='App 6_Yr 1 Capex'!C148 -> Imaging Diagnosis | D14: ='App 6_Yr 1 Capex'!H165 -> 0 | E14: ='App 6_Yr 1 Capex'!I165 -> 0 | F14: ='App 6_Yr 1 Capex'!J165 -> 2138306 | G14: ='App 6_Yr 1 Capex'!K165 -> 0 | H14: ='App 6_Yr 1 Capex'!L165 -> 0 | I14: ='App 6_Yr 1 Capex'!M165 -> 0 | M14: ='App 6_Yr 1 Capex'!Q165 -> 0 | N14: ='App 6_Yr 1 Capex'!R165 -> 0 | O14: ='App 6_Yr 1 Capex'!S165 -> 529676 | P14: ='App 6_Yr 1 Capex'!T165 -> 0 | Q14: ='App 6_Yr 1 Capex'!U165 -> 0 | R14: ='App 6_Yr 1 Capex'!V165 -> 0 | S14: ='App 6_Yr 1 Capex'!W165 -> 0 | T14: ='App 6_Yr 1 Capex'!X165 -> 0 | ... X14: ='App 6_Yr 1 Capex'!AB165 -> 45620 | Y14: =SUM(D14:X14) -> 2713602 | Z14: ='App 6_Yr 1 Capex'!E16-'App 4_Yr1 Cashflow'!Y14 -> 0
B15: ='App 6_Yr 1 Capex'!C167 -> Computer & Software | D15: ='App 6_Yr 1 Capex'!H183 -> 0 | E15: ='App 6_Yr 1 Capex'!I183 -> 0 | F15: ='App 6_Yr 1 Capex'!J183 -> 32000 | G15: ='App 6_Yr 1 Capex'!K183 -> 0 | H15: ='App 6_Yr 1 Capex'!L183 -> 15000 | I15: ='App 6_Yr 1 Capex'!M183 -> 13961 | M15: ='App 6_Yr 1 Capex'!Q183 -> 5000 | N15: ='App 6_Yr 1 Capex'!R183 -> 0 | O15: ='App 6_Yr 1 Capex'!S183 -> 37126 | P15: ='App 6_Yr 1 Capex'!T183 -> 0 | Q15: ='App 6_Yr 1 Capex'!U183 -> 0 | R15: ='App 6_Yr 1 Capex'!V183 -> 0 | S15: ='App 6_Yr 1 Capex'!W183 -> 0 | T15: ='App 6_Yr 1 Capex'!X183 -> 0 | ... X15: ='App 6_Yr 1 Capex'!AB183 -> 0 | Y15: =SUM(D15:X15) -> 103087 | Z15: =SUM('App 6_Yr 1 Capex'!E17-Y15) -> 0
B16: Furniture | D16: ='App 6_Yr 1 Capex'!H195 -> 0 | E16: ='App 6_Yr 1 Capex'!I195 -> 0 | F16: ='App 6_Yr 1 Capex'!J195 -> 0 | G16: ='App 6_Yr 1 Capex'!K195 -> 0 | H16: ='App 6_Yr 1 Capex'!L195 -> 8000 | I16: ='App 6_Yr 1 Capex'!M195 -> 3140 | M16: ='App 6_Yr 1 Capex'!Q195 -> 4500 | N16: ='App 6_Yr 1 Capex'!R195 -> 0 | O16: ='App 6_Yr 1 Capex'!S195 -> 880 | P16: ='App 6_Yr 1 Capex'!T195 -> 0 | Q16: ='App 6_Yr 1 Capex'!U195 -> 0 | R16: ='App 6_Yr 1 Capex'!V195 -> 5000 | S16: ='App 6_Yr 1 Capex'!W195 -> 0 | T16: ='App 6_Yr 1 Capex'!X195 -> 0 | ... X16: ='App 6_Yr 1 Capex'!AB195 -> 0 | Y16: =SUM(D16:X16) -> 21520 | Z16: =SUM('App 6_Yr 1 Capex'!E18-Y16) -> 0
B17: ='App 6_Yr 1 Capex'!C197 -> Vehicles | D17: ='App 6_Yr 1 Capex'!H202 -> 0 | E17: ='App 6_Yr 1 Capex'!I202 -> 0 | F17: ='App 6_Yr 1 Capex'!J202 -> 0 | G17: ='App 6_Yr 1 Capex'!K202 -> 0 | H17: ='App 6_Yr 1 Capex'!L202 -> 0 | I17: ='App 6_Yr 1 Capex'!M202 -> 0 | M17: ='App 6_Yr 1 Capex'!Q202 -> 1000 | N17: ='App 6_Yr 1 Capex'!R202 -> 0 | O17: ='App 6_Yr 1 Capex'!S202 -> 101000 | P17: ='App 6_Yr 1 Capex'!T202 -> 0 | Q17: ='App 6_Yr 1 Capex'!U202 -> 0 | R17: ='App 6_Yr 1 Capex'!V202 -> 1000 | S17: ='App 6_Yr 1 Capex'!W202 -> 0 | T17: ='App 6_Yr 1 Capex'!X202 -> 0 | ... X17: ='App 6_Yr 1 Capex'!AB202 -> 61000 | Y17: =SUM(D17:X17) -> 164000 | Z17: =SUM('App 6_Yr 1 Capex'!E19-Y17) -> 0
B19: Total Capital Expenditures | D19: =SUM(D9:D18) -> 0 | E19: =SUM(E9:E18) -> 0 | F19: =SUM(F9:F18) -> 3955255 | G19: =SUM(G9:G18) -> 12000 | H19: =SUM(H9:H18) -> 23000 | I19: =SUM(I9:I18) -> 17101 | M19: =SUM(M9:M18) -> 323195 | N19: =SUM(N9:N18) -> 73799 | O19: =SUM(O9:O18) -> 1289932 | P19: =SUM(P9:P18) -> 0 | Q19: =SUM(Q9:Q18) -> 3500 | R19: =SUM(R9:R18) -> 773050 | S19: =SUM(S9:S18) -> 0 | T19: =SUM(T9:T18) -> 0 | ... Y19: =SUM(Y9:Y18) -> 7243702
Y20: ='App 6_Yr 1 Capex'!E21-Y19 -> 0
B21: OPERATING
B22: Payroll | D22: ='App 9_Yr1 Headcount'!J63 -> 4000 | E22: ='App 9_Yr1 Headcount'!K63 -> 4000 | F22: ='App 9_Yr1 Headcount'!L63 -> 5000 | G22: ='App 9_Yr1 Headcount'!M63 -> 5500 | H22: ='App 9_Yr1 Headcount'!N63 -> 5500 | I22: ='App 9_Yr1 Headcount'!O63 -> 5500 | M22: ='App 9_Yr1 Headcount'!K158 -> 65562.5 | N22: ='App 9_Yr1 Headcount'!L158 -> 65562.5 | O22: ='App 9_Yr1 Headcount'!M158 -> 66916.667 | P22: ='App 9_Yr1 Headcount'!N158 -> 67604.167 | Q22: ='App 9_Yr1 Headcount'!O158 -> 68041.667 | R22: ='App 9_Yr1 Headcount'!P158 -> 68666.667 | S22: ='App 9_Yr1 Headcount'!Q158 -> 70687.5 | T22: ='App 9_Yr1 Headcount'!R158 -> 71062.5 | ... X22: ='App 9_Yr1 Headcount'!V158 -> 71500 | Y22: =SUM(D22:X22) -> 859604.17
B23: ='App 11_Yr1 Op Exp'!B8 -> Administration | M23: ='App 11_Yr1 Op Exp'!H60 -> 7041.8338 | N23: ='App 11_Yr1 Op Exp'!I60 -> 5041.8338 | O23: ='App 11_Yr1 Op Exp'!J60 -> 7081.8338 | P23: ='App 11_Yr1 Op Exp'!K60 -> 5161.8338 | Q23: ='App 11_Yr1 Op Exp'!L60 -> 5201.8338 | R23: ='App 11_Yr1 Op Exp'!M60 -> 7241.8338 | S23: ='App 11_Yr1 Op Exp'!N60 -> 5361.8338 | T23: ='App 11_Yr1 Op Exp'!O60 -> 5421.8338 | ... X23: ='App 11_Yr1 Op Exp'!S60 -> 7461.8338 | Y23: =SUM(M23:X23) -> 73402.006
B24: ='App 11_Yr1 Op Exp'!B9 -> Office Rent, Utilities& Supplies | M24: ='App 11_Yr1 Op Exp'!H67 -> 27163.668 | N24: ='App 11_Yr1 Op Exp'!I67 -> 27163.668 | O24: ='App 11_Yr1 Op Exp'!J67 -> 27183.668 | P24: ='App 11_Yr1 Op Exp'!K67 -> 27223.668 | Q24: ='App 11_Yr1 Op Exp'!L67 -> 27243.668 | R24: ='App 11_Yr1 Op Exp'!M67 -> 27263.668 | S24: ='App 11_Yr1 Op Exp'!N67 -> 27323.668 | T24: ='App 11_Yr1 Op Exp'!O67 -> 27353.668 | ... X24: ='App 11_Yr1 Op Exp'!S67 -> 27373.668 | Y24: =SUM(M24:X24) -> 327414.01
B25: ='App 11_Yr1 Op Exp'!B10 -> Marketing & Advertising | M25: ='App 11_Yr1 Op Exp'!H76 -> 9250 | N25: ='App 11_Yr1 Op Exp'!I76 -> 7750 | O25: ='App 11_Yr1 Op Exp'!J76 -> 7750 | P25: ='App 11_Yr1 Op Exp'!K76 -> 8250 | Q25: ='App 11_Yr1 Op Exp'!L76 -> 7750 | R25: ='App 11_Yr1 Op Exp'!M76 -> 7750 | S25: ='App 11_Yr1 Op Exp'!N76 -> 9250 | T25: ='App 11_Yr1 Op Exp'!O76 -> 8250 | ... X25: ='App 11_Yr1 Op Exp'!S76 -> 8250 | Y25: =SUM(M25:X25) -> 97500
B26: ='App 11_Yr1 Op Exp'!B11 -> Education & Training | M26: ='App 11_Yr1 Op Exp'!H83 -> 500 | N26: ='App 11_Yr1 Op Exp'!I83 -> 500 | O26: ='App 11_Yr1 Op Exp'!J83 -> 520 | P26: ='App 11_Yr1 Op Exp'!K83 -> 530 | Q26: ='App 11_Yr1 Op Exp'!L83 -> 540 | R26: ='App 11_Yr1 Op Exp'!M83 -> 560 | S26: ='App 11_Yr1 Op Exp'!N83 -> 610 | T26: ='App 11_Yr1 Op Exp'!O83 -> 610 | ... X26: ='App 11_Yr1 Op Exp'!S83 -> 620 | Y26: =SUM(M26:X26) -> 6850
B27: ='App 11_Yr1 Op Exp'!B12 -> Maintenance | M27: ='App 11_Yr1 Op Exp'!H92 -> 30182.092 | N27: ='App 11_Yr1 Op Exp'!I92 -> 30182.092 | O27: ='App 11_Yr1 Op Exp'!J92 -> 30182.092 | P27: ='App 11_Yr1 Op Exp'!K92 -> 30182.092 | Q27: ='App 11_Yr1 Op Exp'!L92 -> 30182.092 | R27: ='App 11_Yr1 Op Exp'!M92 -> 30182.092 | S27: ='App 11_Yr1 Op Exp'!N92 -> 30182.092 | T27: ='App 11_Yr1 Op Exp'!O92 -> 30182.092 | ... X27: ='App 11_Yr1 Op Exp'!S92 -> 30182.092 | Y27: =SUM(M27:X27) -> 362185.1
B28: ='App 11_Yr1 Op Exp'!B13 -> Others | M28: ='App 11_Yr1 Op Exp'!H101 -> 9747.3353 | N28: ='App 11_Yr1 Op Exp'!I101 -> 9747.3353 | O28: ='App 11_Yr1 Op Exp'!J101 -> 9747.3353 | P28: ='App 11_Yr1 Op Exp'!K101 -> 9747.3353 | Q28: ='App 11_Yr1 Op Exp'!L101 -> 10247.335 | R28: ='App 11_Yr1 Op Exp'!M101 -> 9747.3353 | S28: ='App 11_Yr1 Op Exp'!N101 -> 9747.3353 | T28: ='App 11_Yr1 Op Exp'!O101 -> 9747.3353 | ... X28: ='App 11_Yr1 Op Exp'!S101 -> 9747.3353 | Y28: =SUM(M28:X28) -> 117468.02
B30: Total Operating | D30: =SUM(D22:D28) -> 4000 | E30: =SUM(E22:E28) -> 4000 | F30: =SUM(F22:F28) -> 5000 | G30: =SUM(G22:G28) -> 5500 | H30: =SUM(H22:H28) -> 5500 | I30: =SUM(I22:I28) -> 5500 | M30: =SUM(M22:M28) -> 149447.43 | N30: =SUM(N22:N28) -> 145947.43 | O30: =SUM(O22:O28) -> 149381.6 | P30: =SUM(P22:P28) -> 148699.1 | Q30: =SUM(Q22:Q28) -> 149206.6 | R30: =SUM(R22:R28) -> 151411.6 | S30: =SUM(S22:S28) -> 153162.43 | T30: =SUM(T22:T28) -> 152627.43 | ... Y30: =SUM(Y22:Y28) -> 1844423.3
B32: SALES (30 days lag) | E32: 0 | F32: ='App 2_12M Revenue'!A12 -> 0 | G32: ='App 2_12M Revenue'!B12 -> 0 | H32: ='App 2_12M Revenue'!C12 -> 0 | I32: ='App 2_12M Revenue'!D12 -> 0 | N32: ='App 2_12M Revenue'!F12 -> 35539.979 | O32: ='App 2_12M Revenue'!G12 -> 49755.971 | P32: ='App 2_12M Revenue'!H12 -> 69658.359 | Q32: ='App 2_12M Revenue'!I12 -> 97521.703 | R32: ='App 2_12M Revenue'!J12 -> 136530.38 | S32: ='App 2_12M Revenue'!K12 -> 191142.54 | T32: ='App 2_12M Revenue'!L12 -> 267599.55 | U32: ='App 2_12M Revenue'!M12 -> 374639.37 | ... X32: ='App 2_12M Revenue'!P12 -> 1028010.4 | Y32: =SUM(Y24:Y30) -> 2755840.4
B35: CASH TO BE INJECTED | D35: =-D19-D30+D32 -> -4000 | E35: =-E19-E30+E32 -> -4000 | F35: =-F19-F30+F32 -> -3960255 | G35: =-G19-G30+G32 -> -17500 | H35: =-H19-H30+H32 -> -28500 | I35: =-I19-I30+I32 -> -22601 | J35: =-J19-J30+J32 -> 0 | K35: =-K19-K30+K32 -> 0 | ... Y35: =-Y19-Y30+Y32 -> -6332284.9

Sheet App 5_5-Yr Capex
B2: APPENDIX 5: YEAR 1 CAPEX
B3: VIETNAM DIAGNOSTIC SERVICE PROJECT
B6: SUMMARY | H6: Unit: US $
B8: SUMMARY OF FIXED ASSETS | D8: Year 1 | E8: Year 2 | F8: Year 3 | G8: Year 4 | H8: Year 5
B9: Beginning of Year | D9: =D107+D118+D128+D138+D148+D158 -> 0 | E9: =E107+E118+E128+E138+E148+E158 -> 7075302 | F9: =F107+F118+F128+F138+F148+F158 -> 8490362.4 | G9: =G107+G118+G128+G138+G148+G158 -> 11262762 | H9: =H107+H118+H128+H138+H148+H158 -> 12677822
B10: Addition | D10: =D108+D119+D129+D139+D149+D159 -> 7075302 | E10: =E108+E119+E129+E139+E149+E159 -> 1415060.4 | F10: =F108+F119+F129+F139+F149+F159 -> 2772399.4 | G10: =G108+G119+G129+G139+G149+G159 -> 1415060.4 | H10: =H108+H119+H129+H139+H149+H159 -> 1415060.4
B11: Disposal | D11: =D109+D120+D130+D140+D150+D160 -> 0 | E11: =E109+E120+E130+E140+E150+E160 -> 0 | F11: =F109+F120+F130+F140+F150+F160 -> 0 | G11: =G109+G120+G130+G140+G150+G160 -> 0 | H11: =H109+H120+H130+H140+H150+H160 -> 0
B12: Gross fixed assets | D12: =SUM(D9:D11) -> 7075302 | E12: =SUM(E9:E11) -> 8490362.4 | F12: =SUM(F9:F11) -> 11262762 | G12: =SUM(G9:G11) -> 12677822 | H12: =SUM(H9:H11) -> 14092883
B14: Depreciation charge | D14: =SUMIF($B$62:$B$166,$B$68,D$62:D$166) -> -1441955.8 | E14: =SUMIF($B$62:$B$166,$B$68,E$62:E$166) -> -1728132.5 | F14: =SUMIF($B$62:$B$166,$B$68,F$62:F$166) -> -2287958.4 | G14: =SUMIF($B$62:$B$166,$B$68,G$62:G$166) -> -2569102.5 | H14: =SUMIF($B$62:$B$166,$B$68,H$62:H$166) -> -2848058.3
B15: Accumulated depreciation | D15: =D14 -> -1441955.8 | E15: =E14+D15 -> -3170088.3 | F15: =F14+E15 -> -5458046.8 | G15: =G14+F15 -> -8027149.2 | H15: =H14+G15 -> -10875208
B16: End of Year | D16: =D12+D15 -> 5633346.2 | E16: =E12+E15 -> 5320274.1 | F16: =F12+F15 -> 5804715 | G16: =G12+G15 -> 4650673 | H16: =H12+H15 -> 3217675
B19: FIXED ASSET ADDITIONS | C19: Total | D19: Year 1 | E19: Year 2 | F19: Year 3 | G19: Year 4 | H19: Year 5
B21: ='App 6_Yr 1 Capex'!C10 -> Fixture & Fitting out | C21: =SUM(D21:H21) -> 315000 | D21: ='App 6_Yr 1 Capex'!E10 -> 150000 | E21: =$D21*E39 -> 30000 | F21: =$D21*F39 -> 75000 | G21: =$D21*G39 -> 30000 | H21: =$D21*H39 -> 30000
B22: ='App 6_Yr 1 Capex'!C11 -> Waste management & fire safety system | C22: =SUM(D22:H22) -> 2310 | D22: ='App 6_Yr 1 Capex'!E11 -> 1100 | E22: =$D22*E40 -> 220 | F22: =$D22*F40 -> 550 | G22: =$D22*G40 -> 220 | H22: =$D22*H40 -> 220
B23: ='App 6_Yr 1 Capex'!C12 -> Emergency room | C23: =SUM(D23:H23) -> 28890 | D23: ='App 6_Yr 1 Capex'!E12 -> 16050 | E23: =$D23*E41 -> 3210 | F23: =$D23*F41 -> 3210 | G23: =$D23*G41 -> 3210 | H23: =$D23*H41 -> 3210
A24: ok | B24: ='App 6_Yr 1 Capex'!C13 -> Patient room | C24: =SUM(D24:H24) -> 2250 | D24: ='App 6_Yr 1 Capex'!E13 -> 1250 | E24: =$D24*E42 -> 250 | F24: =$D24*F42 -> 250 | G24: =$D24*G42 -> 250 | H24: =$D24*H42 -> 250
A25: ok | B25: ='App 6_Yr 1 Capex'!C14 -> Check-up | C25: =SUM(D25:H25) -> 119460 | D25: ='App 6_Yr 1 Capex'!E14 -> 59730 | E25: =$D25*E43 -> 11946 | F25: =$D25*F43 -> 23892 | G25: =$D25*G43 -> 11946 | H25: =$D25*H43 -> 11946
A26: ok | B26: ='App 6_Yr 1 Capex'!C15 -> Laboratory | C26: =SUM(D26:H26) -> 8026726 | D26: ='App 6_Yr 1 Capex'!E15 -> 4013363 | E26: =$D26*E44 -> 802672.6 | F26: =$D26*F44 -> 1605345.2 | G26: =$D26*G44 -> 802672.6 | H26: =$D26*H44 -> 802672.6
A27: ok | B27: ='App 6_Yr 1 Capex'!C16 -> Imaging Diagnosis | C27: =SUM(D27:H27) -> 5427204 | D27: ='App 6_Yr 1 Capex'!E16 -> 2713602 | E27: =$D27*E45 -> 542720.4 | F27: =$D27*F45 -> 1085440.8 | G27: =$D27*G45 -> 542720.4 | H27: =$D27*H45 -> 542720.4
A28: ok | B28: ='App 6_Yr 1 Capex'!C17 -> Computers and softwares | C28: =SUM(D28:H28) -> 185556.6 | D28: ='App 6_Yr 1 Capex'!E17 -> 103087 | E28: =$D28*E46 -> 20617.4 | F28: =$D28*F46 -> 20617.4 | G28: =$D28*G46 -> 20617.4 | H28: =$D28*H46 -> 20617.4
A29: ok | B29: ='App 6_Yr 1 Capex'!C18 -> Furnitures | C29: =SUM(D29:H29) -> 38736 | D29: ='App 6_Yr 1 Capex'!E18 -> 21520 | E29: =$D29*E47 -> 4304 | F29: =$D29*F47 -> 4304 | G29: =$D29*G47 -> 4304 | H29: =$D29*H47 -> 4304
A30: ok | B30: ='App 6_Yr 1 Capex'!C19 -> Vehicles | C30: =SUM(D30:H30) -> 295200 | D30: ='App 6_Yr 1 Capex'!E19 -> 164000 | E30: =$D30*E48 -> 32800 | F30: =$D30*F48 -> 32800 | G30: =$D30*G48 -> 32800 | H30: =$D30*H48 -> 32800
B32: TOTAL | C32: =SUM(D32:H32) -> 14261283 | D32: =SUM(D21:D30) -> 7243702 | E32: =SUM(E25:E30) -> 1415060.4 | F32: =SUM(F25:F30) -> 2772399.4 | G32: =SUM(G25:G30) -> 1415060.4 | H32: =SUM(H25:H30) -> 1415060.4
B34: Land Rental Area | D34: ='App 10_5Yr Op Exp'!E20 -> 1500 | E34: ='App 10_5Yr Op Exp'!F20 -> 1500 | F34: ='App 10_5Yr Op Exp'!G20 -> 3000 | G34: ='App 10_5Yr Op Exp'!H20 -> 3000 | H34: ='App 10_5Yr Op Exp'!I20 -> 3000
B35: Growth rate | E35: =E34/D34-1 -> 0 | F35: =F34/E34-1 -> 1 | G35: =G34/F34-1 -> 0 | H35: =H34/G34-1 -> 0
B37: ANNUAL GROWTH RATE | D37: Year 1 | E37: Year 2 | F37: Year 3 | G37: Year 4 | H37: Year 5
B39: =B21 -> Fixture & Fitting out | E39: 0.2 | F39: 0.5 | G39: 0.2 | H39: 0.2
B40: =B22 -> Waste management & fire safety system | E40: 0.2 | F40: 0.5 | G40: 0.2 | H40: 0.2
B41: =B23 -> Emergency room | E41: 0.2 | F41: 0.2 | G41: 0.2 | H41: 0.2
B42: =B24 -> Patient room | E42: 0.2 | F42: 0.2 | G42: 0.2 | H42: 0.2
B43: =B25 -> Check-up | D43: 0 | E43: 0.2 | F43: 0.4 | G43: 0.2 | H43: 0.2
B44: =B26 -> Laboratory | D44: 0 | E44: 0.2 | F44: 0.4 | G44: 0.2 | H44: 0.2
